BEGIN:VCALENDAR
VERSION:2.0
PRODID:-//Middlewest Region of Chi Eta Phi Sorority, Inc. - ECPv6.15.20//NONSGML v1.0//EN
CALSCALE:GREGORIAN
METHOD:PUBLISH
X-WR-CALNAME:Middlewest Region of Chi Eta Phi Sorority, Inc.
X-ORIGINAL-URL:https://mwrchietaphi.org
X-WR-CALDESC:Events for Middlewest Region of Chi Eta Phi Sorority, Inc.
REFRESH-INTERVAL;VALUE=DURATION:PT1H
X-Robots-Tag:noindex
X-PUBLISHED-TTL:PT1H
BEGIN:VTIMEZONE
TZID:UTC
BEGIN:STANDARD
TZOFFSETFROM:+0000
TZOFFSETTO:+0000
TZNAME:UTC
DTSTART:20250101T000000
END:STANDARD
END:VTIMEZONE
BEGIN:VEVENT
DTSTART;TZID=UTC:20260626T080000
DTEND;TZID=UTC:20260627T170000
DTSTAMP:20260424T040639
CREATED:20251120T053143Z
LAST-MODIFIED:20251120T053143Z
UID:2024-1782460800-1782579600@mwrchietaphi.org
SUMMARY:2026 National Leadership Summit
DESCRIPTION:Baltimore\, Maryland
URL:https://mwrchietaphi.org/event/2026-national-leadership-summit/
CATEGORIES:Member
ATTACH;FMTTYPE=image/png:https://mwrchietaphi.org/wp-content/uploads/2024/11/CEP-emb-white-outline-1-copy.png
END:VEVENT
END:VCALENDAR