BEGIN:VCALENDAR
VERSION:2.0
PRODID:-//Middlewest Region of Chi Eta Phi Sorority, Inc. - ECPv6.15.20//NONSGML v1.0//EN
CALSCALE:GREGORIAN
METHOD:PUBLISH
X-WR-CALNAME:Middlewest Region of Chi Eta Phi Sorority, Inc.
X-ORIGINAL-URL:https://mwrchietaphi.org
X-WR-CALDESC:Events for Middlewest Region of Chi Eta Phi Sorority, Inc.
REFRESH-INTERVAL;VALUE=DURATION:PT1H
X-Robots-Tag:noindex
X-PUBLISHED-TTL:PT1H
BEGIN:VTIMEZONE
TZID:UTC
BEGIN:STANDARD
TZOFFSETFROM:+0000
TZOFFSETTO:+0000
TZNAME:UTC
DTSTART:20240101T000000
END:STANDARD
END:VTIMEZONE
BEGIN:VEVENT
DTSTART;TZID=UTC:20250423T080000
DTEND;TZID=UTC:20260426T170000
DTSTAMP:20260424T001802
CREATED:20241117T141942Z
LAST-MODIFIED:20260227T011551Z
UID:1372-1745395200-1777222800@mwrchietaphi.org
SUMMARY:2026 Middlwest Regional Conference
DESCRIPTION:We are honored to invite you to the 61st Middlewest Regional Annual Education Conference and Business Meeting – Advancing Health Advocacy\, Health Promotion\, and Disease Prevention through Community Engagement: Grassroots for Greater Impact. This distinguished gathering is dedicated to fostering education\, engagement\, and empowerment in the pursuit of meaningful health outcomes. \nJoin us as we convene experts\, advocates\, and community leaders to explore strategic initiatives\, share knowledge\, and cultivate actionable solutions. Your presence and participation will contribute to the advancement of grassroots efforts that drive lasting impact. \nRegister today by clicking here. \nWe look forward to an enriching experience of collaboration and progress. \n 
URL:https://mwrchietaphi.org/event/2026mwrc/
CATEGORIES:Member
ATTACH;FMTTYPE=image/png:https://mwrchietaphi.org/wp-content/uploads/2026/02/Screenshot-2026-02-22-at-10.18.17-PM-1.png
END:VEVENT
END:VCALENDAR